BEGIN:VCALENDAR
PRODID: -//CFLIB.ORG//iCalUS()//EN
VERSION:2.0
METHOD:REQUEST
BEGIN:VTIMEZONE
BEGIN:STANDARD
DTSTART:20061101T020000
RRULE:FREQ=YEARLY;INTERVAL=1;BYDAY=1SU;BYMONTH=11
TZOFFSETFROM:-0400
TZOFFSETTO:-0500
TZNAME:Standard Time
END:STANDARD
BEGIN:DAYLIGHT
DTSTART:20060301T020000
RRULE:FREQ=YEARLY;INTERVAL=1;BYDAY=2SU;BYMONTH=3
TZOFFSETFROM:-0500
TZOFFSETTO:-0400
TZNAME:Daylight Savings Time
END:DAYLIGHT
END:VTIMEZONE
BEGIN:VEVENT
UID:1551185772582.CFLIB.ORG
ORGANIZER;CN=:MAILTO:
DTSTAMP:20190226T235612
DTSTART;TZID=Eastern Time:20190302T120000
DTEND;TZID=Eastern Time:20190302T130000
SUMMARY:CREER PROPERTY - PROPERTY AUCTION - 40 Prospect Road, GARDEN SUBURB, 2289
LOCATION:40 Prospect Road, GARDEN SUBURB, 2289
DESCRIPTION:PROPERTY AUCTION: 40 Prospect Road, GARDEN SUBURB, 2289\n\n\nAUCTION DATE: 2 March 2019 - 12:00PM\nAUCTION LOCATION: 40 Prospect Road, GARDEN SUBURB, 2289\n\n\nClick the link for full listing information: http://creer.com.au?/property/3326346
PRIORITY:1
TRANSP:OPAQUE
CLASS:PUBLIC
BEGIN:VALARM
TRIGGER:-PT30M
ACTION:DISPLAY
DESCRIPTION:Reminder
END:VALARM
END:VEVENT
END:VCALENDAR 